BEGIN:VCALENDAR
VERSION:2.0
PRODID:-//Moč Srca - ECPv6.15.12.2//NONSGML v1.0//EN
CALSCALE:GREGORIAN
METHOD:PUBLISH
X-ORIGINAL-URL:https://www.mocsrca.si
X-WR-CALDESC:Events for Moč Srca
REFRESH-INTERVAL;VALUE=DURATION:PT1H
X-Robots-Tag:noindex
X-PUBLISHED-TTL:PT1H
BEGIN:VTIMEZONE
TZID:UTC
BEGIN:STANDARD
TZOFFSETFROM:+0000
TZOFFSETTO:+0000
TZNAME:UTC
DTSTART:20180101T000000
END:STANDARD
END:VTIMEZONE
BEGIN:VEVENT
DTSTART;TZID=UTC:20191003T190000
DTEND;TZID=UTC:20191003T210000
DTSTAMP:20260423T145110
CREATED:20191003T110539Z
LAST-MODIFIED:20191003T111316Z
UID:602-1570129200-1570136400@www.mocsrca.si
SUMMARY:Zvočna harmonizacija s himalajskimi posodami in drugimi holističnimi inštrumenti
DESCRIPTION:Zvočna harmonizacija s himalajskimi posodami in drugimi holističnimi inštrumenti (koši zvončki\, drum hangi\, dežnimi palicami\, deževniki itd.) bo namenjena nežnem zvočnem potovanju\, spoznavanju učinkov teh holističnih inštrumentov na telo človeka\, svetovanju o sami uporabi v primeru lastnega nakupa \, katerega od teh inštrumentov. Zvočno harmonizacijo bomo izvajali v trgovini SEWA . Vetrinjska 12 – Maribor\, v njihovi dvorani\, v primeru nakupa vam bodo inštrumenti dosegljivi v njihovih prostorih ob strokovni razlagi kako jih uporabiti v različne namene. \n\nZVOČNA HARMONIZACIJA \, se bo izvajala vsak prvi ponedeljek v mesecu. \nPrijave so obvezne za obe zvočni seansi zaradi omejitve števila udeležencev in same kvalitete izvedbe . Ob prijavi prejmete vsa druga navodila. \nIzvedba zvočnih tretmanov ; Marjan Zelenik \, kreator holističnega zvoka – vibracijski objem 
URL:https://www.mocsrca.si/event/zvocna-harmonizacija-s-himalajskimi-posodami-in-drugimi-holisticnimi-instrumenti/
LOCATION:Holistični center Moč Srca\, Vetrinjska ulica 12\, Maribor\, 2000\, Slovenija
CATEGORIES:delavnica
ATTACH;FMTTYPE=image/png:https://www.mocsrca.si/wp-content/uploads/2019/10/Marjan-Zelenik-delavnica.png
ORGANIZER;CN="marjan zelenik":MAILTO:marjan.zelenik8@gmail.com
END:VEVENT
END:VCALENDAR