BEGIN:VCALENDAR
VERSION:2.0
PRODID:-//Moč Srca - ECPv6.15.12.2//NONSGML v1.0//EN
CALSCALE:GREGORIAN
METHOD:PUBLISH
X-ORIGINAL-URL:https://www.mocsrca.si
X-WR-CALDESC:Events for Moč Srca
REFRESH-INTERVAL;VALUE=DURATION:PT1H
X-Robots-Tag:noindex
X-PUBLISHED-TTL:PT1H
BEGIN:VTIMEZONE
TZID:UTC
BEGIN:STANDARD
TZOFFSETFROM:+0000
TZOFFSETTO:+0000
TZNAME:UTC
DTSTART:20180101T000000
END:STANDARD
END:VTIMEZONE
BEGIN:VEVENT
DTSTART;TZID=UTC:20191021T190000
DTEND;TZID=UTC:20191021T203000
DTSTAMP:20260423T130712
CREATED:20191003T103808Z
LAST-MODIFIED:20191003T111417Z
UID:593-1571684400-1571689800@www.mocsrca.si
SUMMARY:Glasbeno-meditacijski odklop v Mariboru
DESCRIPTION:Po razprodanem septembrskem glasbeno-meditacijskem odklopu v Ljubljani\, se oktobra Shamballa vrača v Maribor! \nVabljeni na GLASBENO – MEDITACIJSKI ODKLOP V MARIBORU! \nPosebnost in eden od namenov Shamballinih dogodkov je skupinsko petje. Vsi obiskovalci naših dogodkov so namreč tudi ustvarjalci\, cilj skupinskega petja manter pa je stopiti v stik z notranjo tišino in izkušnjo le te poglobiti. Učinek skupinskega petje manter tako občutimo še kar nekaj časa po skupnem glasbeno-meditacijskem druženju. \nVeč informacij o dogodku na\nhttps://www.shamballa.si/dogodek/glasbeno-meditacijski-odklop-v-mariboru/ \nPrijave na dogodek so obvezne. Sprejemamo jih na andreja.bogdan@madalbal.si ali na tel. 051 249 693 (Andreja). \nO Shamballi: \nShamballa je konec leta 2014 izdala istoimenski prvenec na katerem so svoj glas mantram „posodili“ znani pevci in pevke. Tomi Meglič\, Tinkara Kovač\, Neisha\, Urška Majdič\, Nina Vodopivec\, Anita Kay\, Tanja Anžur\, Marko Hatlak ter vrhunski indijski glasbenik\, sin z grammyem nagrajenega Padmashri T.H. Vikku Vinayakram\, Mahesh Vinayakram. Januarja 2016 so nastopili v razprodani Štihovi dvorani Cankarjevega doma\, kjer je nastal material za drugo zgoščenko Sound Journey\, ki je luč sveta ugledala junija 2016. V začetku letošnjega leta pa je izšla njihova tretja plošča z naslovom 108.
URL:https://www.mocsrca.si/event/glasbeno-meditacijski-odklop-v-mariboru/
LOCATION:Holistični center Moč Srca\, Vetrinjska ulica 12\, Maribor\, 2000\, Slovenija
CATEGORIES:koncert
ATTACH;FMTTYPE=image/png:https://www.mocsrca.si/wp-content/uploads/2019/10/Shamballa-koncert.png
ORGANIZER;CN="Shamballa":MAILTO:andreja.bogdan@madalbal.si
END:VEVENT
END:VCALENDAR