BEGIN:VCALENDAR
VERSION:2.0
PRODID:-//Moč Srca - ECPv6.15.12.2//NONSGML v1.0//EN
CALSCALE:GREGORIAN
METHOD:PUBLISH
X-WR-CALNAME:Moč Srca
X-ORIGINAL-URL:https://www.mocsrca.si
X-WR-CALDESC:Events for Moč Srca
REFRESH-INTERVAL;VALUE=DURATION:PT1H
X-Robots-Tag:noindex
X-PUBLISHED-TTL:PT1H
BEGIN:VTIMEZONE
TZID:UTC
BEGIN:STANDARD
TZOFFSETFROM:+0000
TZOFFSETTO:+0000
TZNAME:UTC
DTSTART:20180101T000000
END:STANDARD
END:VTIMEZONE
BEGIN:VEVENT
DTSTART;TZID=UTC:20191128T190000
DTEND;TZID=UTC:20191128T204500
DTSTAMP:20260419T154738
CREATED:20191003T104745Z
LAST-MODIFIED:20191003T111550Z
UID:599-1574967600-1574973900@www.mocsrca.si
SUMMARY:Vzgoja samostojnih\, motiviranih in opolnomočenih otrok
DESCRIPTION:Se sprašuješ\, kako to\, da tvoj otrok nima nobene prave volje\, entuziazma in želje po učenju ter delu? Te skrbijo njegova nezainteresiranost\, družba\, zdravje in okus? \nKako ga/jo motivirati in opolnomočiti ter v njem razviti okus za učenje in delo? V čem je skrivnost do srca otroka in harmonije v odnosu z njimi tudi po tem\, ko odrastejo? \nVsebina: \n– nauči se otroke motivirati in v njih vzbuditi željo po učenju\, poslušanju in delu.\n– Kako najbolje skrbeti za razvoj otrok na vseh področjih v različnih obdobjih njihovega življenja?\n– Komunikacija in razvijanje dolžnosti ter družbene odgovornosti.\n– Motivacijski faktorji in kako odkriti\, kaj resnično veseli in navdihuje našega učenca\, sina\, hčer ter ga polno opolnomočiti?\n– Ključne razlike skrivnosti pristopa vsakem posamezniku.\n– Kako se naše pomanjkljivosti in kvalitete odražajo na karakterju otrok?\n– Odnosi med starši in strokovnimi delavci.\n– Enostarševske družine.\n– Vprašanja in odgovori. \nPredava Andrej Pešec\, univ. dipl. pol.\, strokovni sodelavec preko 100 šol\, CSDjev in mladinskih ter drugih organizacij po Sloveniji. \nProsimo\, povabite prijatelje. \nvedno dobrodošli\, \nvse dobro vsem še naprej
URL:https://www.mocsrca.si/event/vzgoja-samostojnih-motiviranih-in-opolnomocenih-otrok/
LOCATION:Holistični center Moč Srca\, Vetrinjska ulica 12\, Maribor\, 2000\, Slovenija
CATEGORIES:predavanje
ATTACH;FMTTYPE=image/png:https://www.mocsrca.si/wp-content/uploads/2019/10/Vzgoja-samostojnih-motiviranih-in-opolnomočenih-otrok.png
ORGANIZER;CN="Andrej Pe%C5%A1ec":MAILTO:andrejpesec@gmail.com ali znanjezazivljenje@gmail.com
END:VEVENT
END:VCALENDAR